BEGIN:VCALENDAR
VERSION:2.0
PRODID:-//JMAH  - Jamia Masjid Ahl-e-Hadith, Halifax - ECPv6.15.17.1//NONSGML v1.0//EN
CALSCALE:GREGORIAN
METHOD:PUBLISH
X-ORIGINAL-URL:https://jmahdawah.org
X-WR-CALDESC:Events for JMAH  - Jamia Masjid Ahl-e-Hadith, Halifax
REFRESH-INTERVAL;VALUE=DURATION:PT1H
X-Robots-Tag:noindex
X-PUBLISHED-TTL:PT1H
BEGIN:VTIMEZONE
TZID:Europe/London
BEGIN:DAYLIGHT
TZOFFSETFROM:+0000
TZOFFSETTO:+0100
TZNAME:BST
DTSTART:20250330T010000
END:DAYLIGHT
BEGIN:STANDARD
TZOFFSETFROM:+0100
TZOFFSETTO:+0000
TZNAME:GMT
DTSTART:20251026T010000
END:STANDARD
BEGIN:DAYLIGHT
TZOFFSETFROM:+0000
TZOFFSETTO:+0100
TZNAME:BST
DTSTART:20260329T010000
END:DAYLIGHT
BEGIN:STANDARD
TZOFFSETFROM:+0100
TZOFFSETTO:+0000
TZNAME:GMT
DTSTART:20261025T010000
END:STANDARD
BEGIN:DAYLIGHT
TZOFFSETFROM:+0000
TZOFFSETTO:+0100
TZNAME:BST
DTSTART:20270328T010000
END:DAYLIGHT
BEGIN:STANDARD
TZOFFSETFROM:+0100
TZOFFSETTO:+0000
TZNAME:GMT
DTSTART:20271031T010000
END:STANDARD
END:VTIMEZONE
BEGIN:VEVENT
DTSTART;TZID=Europe/London:20260110T150000
DTEND;TZID=Europe/London:20260110T180000
DTSTAMP:20260422T190215
CREATED:20251202T170625Z
LAST-MODIFIED:20251202T171159Z
UID:6423-1768057200-1768068000@jmahdawah.org
SUMMARY:Sister's Youth-led Conference
DESCRIPTION:JMAH Halifax Presents; \nI AM A MUSLIM\, ISLAM IS MY DEEN \nHosted and delivered by the young girls of our community – An Event not to be missed \nSaturday 10th January 2025 – 3:000pm till 6:00pm \nTopics include: \n\nRemembering Allah\nWhat it means to be a muslim\nBeing proud of our muslim identity\nThe importance of understanding the Quran\nProphet Muhammed ﷺ as our role model\nAdvise from the Youth\n\nFood will be served \nThis event requires prior registration; \n\n        \n    \n        Registrations for this event have now closed.
URL:https://jmahdawah.org/event/sisters-youth-led-conference/
ATTACH;FMTTYPE=image/jpeg:https://jmahdawah.org/wp-content/uploads/2025/12/WhatsApp-Image-2025-12-02-at-11.38.31.jpeg
END:VEVENT
END:VCALENDAR