BEGIN:VCALENDAR
VERSION:2.0
PRODID:-//JMAH  - Jamia Masjid Ahl-e-Hadith, Halifax - ECPv6.15.17.1//NONSGML v1.0//EN
CALSCALE:GREGORIAN
METHOD:PUBLISH
X-WR-CALNAME:JMAH  - Jamia Masjid Ahl-e-Hadith, Halifax
X-ORIGINAL-URL:https://jmahdawah.org
X-WR-CALDESC:Events for JMAH  - Jamia Masjid Ahl-e-Hadith, Halifax
REFRESH-INTERVAL;VALUE=DURATION:PT1H
X-Robots-Tag:noindex
X-PUBLISHED-TTL:PT1H
BEGIN:VTIMEZONE
TZID:Europe/London
BEGIN:DAYLIGHT
TZOFFSETFROM:+0000
TZOFFSETTO:+0100
TZNAME:BST
DTSTART:20240331T010000
END:DAYLIGHT
BEGIN:STANDARD
TZOFFSETFROM:+0100
TZOFFSETTO:+0000
TZNAME:GMT
DTSTART:20241027T010000
END:STANDARD
BEGIN:DAYLIGHT
TZOFFSETFROM:+0000
TZOFFSETTO:+0100
TZNAME:BST
DTSTART:20250330T010000
END:DAYLIGHT
BEGIN:STANDARD
TZOFFSETFROM:+0100
TZOFFSETTO:+0000
TZNAME:GMT
DTSTART:20251026T010000
END:STANDARD
BEGIN:DAYLIGHT
TZOFFSETFROM:+0000
TZOFFSETTO:+0100
TZNAME:BST
DTSTART:20260329T010000
END:DAYLIGHT
BEGIN:STANDARD
TZOFFSETFROM:+0100
TZOFFSETTO:+0000
TZNAME:GMT
DTSTART:20261025T010000
END:STANDARD
END:VTIMEZONE
BEGIN:VEVENT
DTSTART;TZID=Europe/London:20250803T150000
DTEND;TZID=Europe/London:20250803T173000
DTSTAMP:20260422T215311
CREATED:20250722T131919Z
LAST-MODIFIED:20250722T135233Z
UID:6222-1754233200-1754242200@jmahdawah.org
SUMMARY:Sisters Social - A Journey Through Jannah
DESCRIPTION:✨ Journey Through Jannah: A Sisters’ Social Event ✨ \nAs-Salaamu Alaikum dear sisters! 🌸 \nWe are delighted to invite you to our upcoming event\, “Journey Through Jannah” – a special gathering designed to strengthen our bonds\, nourish our spirits\, and inspire each other as we reflect on the beauty of our faith. \nInsha’Allah\, we will embark on a heartwarming journey through meaningful discussions\, reflections\, and moments of sisterhood. Together\, we will explore how we can elevate our daily lives\, grow in our connection to Allah (SWT)\, and envision the ultimate destination: Jannah. \n🌟 Exciting Activity: Personalised Bag Painting 🌟 \nAs part of our special gathering\, we’ll be diving into a creative and meaningful activity: painting your own personalised bag! 🎨✨ \nYou’ll have the chance to design a unique canvas bag that reflects your personal journey and connection to Jannah. Whether it’s a beautiful verse from the Qur’an\, an inspiring reminder of your faith\, or simply a design that speaks to your heart\, this activity allows you to express yourself artistically while reflecting on the beauty of our ultimate destination. \nAll materials will be provided\, so just bring your creativity and spirit! Not only will you leave with a beautiful keepsake\, but the bag will also serve as a tangible reminder of the journey we’re all on\, Insha’Allah. \n🗓 Date: Sunday 3rd August\n⏰ Time: 3pm – 5:30pm\n📍 Location: JMAH Halifax\, HX1 4ET\n💰 Fee: £3 per person (to cover refreshments\, food\, and materials) \nA selection of delicious food and refreshments will be served throughout the event \nWhether you’re seeking spiritual inspiration\, looking to make new connections\, or just wishing to spend quality time with your sisters in Islam\, this event is for YOU. Come with an open heart\, and let’s walk this beautiful journey together. \nMay Allah (SWT) grant us all the strength to walk the path to Jannah\, and may this event be a means of bringing us closer to Him. \nLooking forward to seeing you there\, Insha’Allah!
URL:https://jmahdawah.org/event/sisters-social-a-journey-through-jannah/
ATTACH;FMTTYPE=image/jpeg:https://jmahdawah.org/wp-content/uploads/2025/07/WhatsApp-Image-2025-07-21-at-19.54.23_607040b8.jpg
END:VEVENT
BEGIN:VEVENT
DTSTART;TZID=Europe/London:20250823T140000
DTEND;TZID=Europe/London:20250823T160000
DTSTAMP:20260422T215311
CREATED:20250810T085754Z
LAST-MODIFIED:20250811T171603Z
UID:6245-1755957600-1755964800@jmahdawah.org
SUMMARY:Girls Metal Stamping Workshop
DESCRIPTION:  \nThis event requires prior registration and spaces are limited. Please use the following form to register your attendance; \n        \n                                                \n                        \n                        \n                \n                \n                                    \n                        \n                First Name\n            \n                    \n                \n            \n        \n                \n                        \n                Last Name\n            \n                    \n                \n            \n        \n                \n                        \n                Age\n            \n                    \n                \n            \n        \n                \n                        \n                Email Address\n            \n                    \n                \n            \n        \n                \n                        \n                Mobile/Telephone Number\n            \n                    \n                \n            \n        \n                \n                    \n                    \n                \n                \n                \n                    \n                        Pay \n                        \n                            Please Wait…
URL:https://jmahdawah.org/event/girls-metal-stamping-workshop/
LOCATION:Sisters Classroom – Building 2\, JMAH - 97 Hopwood Lane\, Halifax\, England\, HX1 4ET\, United Kingdom
ATTACH;FMTTYPE=image/jpeg:https://jmahdawah.org/wp-content/uploads/2025/08/WhatsApp-Image-2025-08-11-at-15.36.06_8681b565.jpg
END:VEVENT
BEGIN:VEVENT
DTSTART;TZID=Europe/London:20250829T173000
DTEND;TZID=Europe/London:20250829T210000
DTSTAMP:20260422T215311
CREATED:20250811T171859Z
LAST-MODIFIED:20250811T171859Z
UID:6258-1756488600-1756501200@jmahdawah.org
SUMMARY:Mosque Barbecue
DESCRIPTION:Brothers Monthly Lets Talk Event \nBrothers Let’s Talk BBQ \nDate: 29th August 2025\nTime: 6-9pm\nLocation: JMAH Halifax \nJoin us for a BBQ\, Games and a good get together between brothers. \nRelaxed atmosphere and chill with the bros. \n£6 per person to cover cost of food\, drink and deserts. \nThis is a pre-registration event. Please use the following form to register. \n        \n                                                \n                        \n                        \n                \n                \n                                    \n                        \n                First Name\n            \n                    \n                \n            \n        \n                \n                        \n                Last Name\n            \n                    \n                \n            \n        \n                \n                        \n                Email Address\n            \n                    \n                \n            \n        \n                \n                        \n                Mobile/Telephone Number\n            \n                    \n                \n            \n        \n                \n                        \n                Enter names of additional people attending\n            \n                    \n                \n            \n        \n                \n                        \n                                \n                        \n                            \n                                                                Entry Ticket\n                                Item Price\n                                Quantity\n                            \n                        \n                        \n                                                            \n                                                                        \n                                        Under 9's                                        \n                                    \n                                    \n                                        \n                                                                                £3\n                                                                                \n                                    \n                                    \n                                                                                \n                                    \n                                \n                                                            \n                                                                        \n                                        Ages 9+                                        \n                                    \n                                    \n                                        \n                                                                                £5\n                                                                                \n                                    \n                                    \n                                                                                \n                                    \n                                \n                                                    \n                                                    \n                                \n                                    \n                                        Sub Total                                    \n                                    \n                                        \n                                    \n                                \n                            \n                                            \n                            \n                \n                \n                \n                \n                    \n                        Pay \n                        \n                            Please Wait…                        \n                    \n                    \n                        \n                            \n                            \n                                \n                            \n                        \n                    \n                \n                            \n                            \n                                    Registrations for this event has now ended.
URL:https://jmahdawah.org/event/mosque-barbecue-v2/
LOCATION:Main Hall – Building 1\, JMAH - 97 Hopwood Lane\, Halifax\, HX1 4ET\, United Kingdom
ATTACH;FMTTYPE=image/jpeg:https://jmahdawah.org/wp-content/uploads/2025/08/V1.jpg
END:VEVENT
END:VCALENDAR