BEGIN:VCALENDAR
VERSION:2.0
PRODID:-//JMAH  - Jamia Masjid Ahl-e-Hadith, Halifax - ECPv6.15.17.1//NONSGML v1.0//EN
CALSCALE:GREGORIAN
METHOD:PUBLISH
X-WR-CALNAME:JMAH  - Jamia Masjid Ahl-e-Hadith, Halifax
X-ORIGINAL-URL:https://jmahdawah.org
X-WR-CALDESC:Events for JMAH  - Jamia Masjid Ahl-e-Hadith, Halifax
REFRESH-INTERVAL;VALUE=DURATION:PT1H
X-Robots-Tag:noindex
X-PUBLISHED-TTL:PT1H
BEGIN:VTIMEZONE
TZID:Europe/London
BEGIN:DAYLIGHT
TZOFFSETFROM:+0000
TZOFFSETTO:+0100
TZNAME:BST
DTSTART:20240331T010000
END:DAYLIGHT
BEGIN:STANDARD
TZOFFSETFROM:+0100
TZOFFSETTO:+0000
TZNAME:GMT
DTSTART:20241027T010000
END:STANDARD
BEGIN:DAYLIGHT
TZOFFSETFROM:+0000
TZOFFSETTO:+0100
TZNAME:BST
DTSTART:20250330T010000
END:DAYLIGHT
BEGIN:STANDARD
TZOFFSETFROM:+0100
TZOFFSETTO:+0000
TZNAME:GMT
DTSTART:20251026T010000
END:STANDARD
BEGIN:DAYLIGHT
TZOFFSETFROM:+0000
TZOFFSETTO:+0100
TZNAME:BST
DTSTART:20260329T010000
END:DAYLIGHT
BEGIN:STANDARD
TZOFFSETFROM:+0100
TZOFFSETTO:+0000
TZNAME:GMT
DTSTART:20261025T010000
END:STANDARD
END:VTIMEZONE
BEGIN:VEVENT
DTSTART;TZID=Europe/London:20250420T140000
DTEND;TZID=Europe/London:20250420T170000
DTSTAMP:20260422T140229
CREATED:20250419T152214Z
LAST-MODIFIED:20250419T152214Z
UID:6063-1745157600-1745168400@jmahdawah.org
SUMMARY:Sister's Social - Eid Party
DESCRIPTION:You’re Invited! 🌙✨ \nJoin us for a special Sisters’ Social Eid Party on Sunday\, 20th April\, from 2:00 PM to 5:30 PM! \nThis event is open to all sisters aged 14 and above\, and we’d love to make it a wonderful celebration together. It’s a bring a dish event\, so please bring your favorite dish to share and enjoy the delicious variety! \nLet’s gather\, laugh\, and enjoy the spirit of Eid after a blessed month of Ramadan. We can’t wait to see you there! \nDetails:\n🗓 Date: Sunday\, 20th April\n⏰ Time: 2:00 PM – 5:30 PM\n👭 Who: All sisters 14+\n🍽 Bring a Dish: Share a meal with us! \nPlease RSVP and let us know what dish you’ll be bringing via the following link: \nSisters Social \n \nSee you soon!
URL:https://jmahdawah.org/event/sisters-social-eid-party/
ATTACH;FMTTYPE=image/jpeg:https://jmahdawah.org/wp-content/uploads/2025/04/WhatsApp-Image-2025-04-07-at-17.17.18_c46cf589.jpg
ORGANIZER;CN="JMAH":MAILTO:jmahdawah@gmail.com
END:VEVENT
BEGIN:VEVENT
DTSTART;TZID=Europe/London:20250425T190000
DTEND;TZID=Europe/London:20250425T200000
DTSTAMP:20260422T140229
CREATED:20250419T152349Z
LAST-MODIFIED:20250419T152349Z
UID:6065-1745607600-1745611200@jmahdawah.org
SUMMARY:Brother's Let's Talk : Fitnah of Temptations and Desires
DESCRIPTION:Brothers Monthly Lets Talk Event April \nFitnah of Temptation and Desires \nFriday 25th April 2025 @ 7pm JMAH Halifax \nAn open discussion and Q&A with Sheikh Imraan Mollagee on key challenges on modern day Fitnah of Temptation and Desires. \nRelaxed atmosphere\, good talk and chill with the bros. \n£5 per person to cover cost of food\, drink and deserts. \nBrothers Aged 14+ \nPlease message Habib or Shaan on 07367119650 / 07950668649 to reserve your spot
URL:https://jmahdawah.org/event/brothers-lets-talk-fitnah-of-temptations-and-desires/
ATTACH;FMTTYPE=image/jpeg:https://jmahdawah.org/wp-content/uploads/2025/04/WhatsApp-Image-2025-04-18-at-15.13.47_5f7594db.jpg
ORGANIZER;CN="JMAH":MAILTO:jmahdawah@gmail.com
END:VEVENT
BEGIN:VEVENT
DTSTART;TZID=Europe/London:20250428T080000
DTEND;TZID=Europe/London:20250630T170000
DTSTAMP:20260422T140229
CREATED:20250427T093731Z
LAST-MODIFIED:20250427T093731Z
UID:6084-1745827200-1751302800@jmahdawah.org
SUMMARY:The Three Fundamental Principles
DESCRIPTION:Join us for Season 2 of our Aqeedah Series with Shaykh Imraan Mollagee — Every Monday\, Starting this Monday\, 28th at 7:45 PM! \nTogether\, we’ll explore the beautiful and essential text “The Three Fundamental Principles” by Shaykh Muhammad ibn Abdul Wahhab — a guide to strengthening our understanding of Islamic belief and the true meaning of Tawheed. \nWhether you’re just starting your journey or looking to refresh and deepen your knowledge\, this course is designed to be clear\, practical\, and firmly grounded in Qur’an and Sunnah. \n– FREE course\n– Everyone is welcome — brothers and sisters\, beginners and beyond!\n– ⁠Classroom-based learning\, this class will be held in the Basement\, in Building 2\n– A warm\, supportive environment for all \nFor more information. Please see the poster.
URL:https://jmahdawah.org/event/the-three-fundamental-principles/
LOCATION:Brothers – Building 1 Classroom / Sisters – Sisters Main Hall\, JMAH - 97 Hopwood Lane\, Halifax\, England\, HX1 4ET\, United Kingdom
ATTACH;FMTTYPE=image/jpeg:https://jmahdawah.org/wp-content/uploads/2025/04/Three-Funds-Final-scaled.jpg
END:VEVENT
BEGIN:VEVENT
DTSTART;TZID=Europe/London:20250430T194500
DTEND;TZID=Europe/London:20250730T200000
DTSTAMP:20260422T140229
CREATED:20241225T223615Z
LAST-MODIFIED:20250427T093453Z
UID:5645-1746042300-1753905600@jmahdawah.org
SUMMARY:Foundations of Faith
DESCRIPTION:This course resumes this Wednesday 30th April 2025\nDelivered by Shaykh Imraan Mollagee – Graduate from the Islamic University of Madinah \nStarting on Wednesday 8th January 2025\, running every Wednesday for 8 weeks\, 7:45pm – 8:30pm\, this is a classroom based structured course with exams and a course completion certificate at the end. \nWhy Enrol: \n\nQualified Shaykh delivering the course\nCourse material (presentation) provided\nExams at the end of each module\nClassroom based learning\nFree Course\n\nThe Course Will Cover: \n\nWhat is Fiqh?\nEvolution of Fiqh over time\nOrigin of the Madhaahib of Fiqh\nFollowing a Madhab?\nA glance at the sources of Islamic Law\n\nThis course requires prior enrolment\, please use the following form to register: \n\n        \n    \n        Registrations for this even have now closed.
URL:https://jmahdawah.org/event/foundations-of-faith/
LOCATION:Brothers – Building 1 Classroom / Sisters – Sisters Main Hall\, JMAH - 97 Hopwood Lane\, Halifax\, England\, HX1 4ET\, United Kingdom
ATTACH;FMTTYPE=image/jpeg:https://jmahdawah.org/wp-content/uploads/2024/12/Final-Fiqh-scaled.jpg
ORGANIZER;CN="JMAH":MAILTO:jmahdawah@gmail.com
END:VEVENT
END:VCALENDAR