BEGIN:VCALENDAR
VERSION:2.0
PRODID:-//JMAH  - Jamia Masjid Ahl-e-Hadith, Halifax - ECPv6.15.17.1//NONSGML v1.0//EN
CALSCALE:GREGORIAN
METHOD:PUBLISH
X-ORIGINAL-URL:https://jmahdawah.org
X-WR-CALDESC:Events for JMAH  - Jamia Masjid Ahl-e-Hadith, Halifax
REFRESH-INTERVAL;VALUE=DURATION:PT1H
X-Robots-Tag:noindex
X-PUBLISHED-TTL:PT1H
BEGIN:VTIMEZONE
TZID:Europe/London
BEGIN:DAYLIGHT
TZOFFSETFROM:+0000
TZOFFSETTO:+0100
TZNAME:BST
DTSTART:20220327T010000
END:DAYLIGHT
BEGIN:STANDARD
TZOFFSETFROM:+0100
TZOFFSETTO:+0000
TZNAME:GMT
DTSTART:20221030T010000
END:STANDARD
BEGIN:DAYLIGHT
TZOFFSETFROM:+0000
TZOFFSETTO:+0100
TZNAME:BST
DTSTART:20230326T010000
END:DAYLIGHT
BEGIN:STANDARD
TZOFFSETFROM:+0100
TZOFFSETTO:+0000
TZNAME:GMT
DTSTART:20231029T010000
END:STANDARD
BEGIN:DAYLIGHT
TZOFFSETFROM:+0000
TZOFFSETTO:+0100
TZNAME:BST
DTSTART:20240331T010000
END:DAYLIGHT
BEGIN:STANDARD
TZOFFSETFROM:+0100
TZOFFSETTO:+0000
TZNAME:GMT
DTSTART:20241027T010000
END:STANDARD
END:VTIMEZONE
BEGIN:VEVENT
DTSTART;TZID=Europe/London:20230512T173000
DTEND;TZID=Europe/London:20230512T183000
DTSTAMP:20260424T080508
CREATED:20230512T090841Z
LAST-MODIFIED:20230512T091116Z
UID:4809-1683912600-1683916200@jmahdawah.org
SUMMARY:How to Love the Prophet (PBUH)
DESCRIPTION:By Ustadh Basak Abu Muhammad\nGraduate from the Islamic University of Madinah \nFriday 12th May – 5.45pm (After the Asr prayer)
URL:https://jmahdawah.org/event/how-to-love-the-prophet-pbuh/
LOCATION:Brothers – Building 1 Classroom / Sisters – Sisters Main Hall\, JMAH - 97 Hopwood Lane\, Halifax\, England\, HX1 4ET\, United Kingdom
ATTACH;FMTTYPE=image/jpeg:https://jmahdawah.org/wp-content/uploads/2023/05/V1.jpg
ORGANIZER;CN="JMAH":MAILTO:jmahdawah@gmail.com
END:VEVENT
BEGIN:VEVENT
DTSTART;TZID=Europe/London:20230520T130000
DTEND;TZID=Europe/London:20230520T173000
DTSTAMP:20260424T080508
CREATED:20230503T093748Z
LAST-MODIFIED:20230514T135304Z
UID:4769-1684587600-1684603800@jmahdawah.org
SUMMARY:The Final Journey
DESCRIPTION:All you need to know about death\, the deceased and related rulings. \nBy Shaykh Zaka Ullah Saleem\, delivered in English. \nSaturday 20th May\, 12pm till Asr. Open to Brothers and Sisters. \nFor more information please see the following poster. \nTHIS EVENT HAS BEEN CANCELLED
URL:https://jmahdawah.org/event/the-final-journey/
LOCATION:Brothers – Building 1 Classroom / Sisters – Sisters Main Hall\, JMAH - 97 Hopwood Lane\, Halifax\, England\, HX1 4ET\, United Kingdom
ATTACH;FMTTYPE=image/jpeg:https://jmahdawah.org/wp-content/uploads/2023/05/WhatsApp-Image-2023-05-03-at-10.32.19-AM.jpeg
ORGANIZER;CN="JMAH":MAILTO:jmahdawah@gmail.com
END:VEVENT
END:VCALENDAR