BEGIN:VCALENDAR
VERSION:2.0
PRODID:-//JMAH  - Jamia Masjid Ahl-e-Hadith, Halifax - ECPv6.15.17.1//NONSGML v1.0//EN
CALSCALE:GREGORIAN
METHOD:PUBLISH
X-WR-CALNAME:JMAH  - Jamia Masjid Ahl-e-Hadith, Halifax
X-ORIGINAL-URL:https://jmahdawah.org
X-WR-CALDESC:Events for JMAH  - Jamia Masjid Ahl-e-Hadith, Halifax
REFRESH-INTERVAL;VALUE=DURATION:PT1H
X-Robots-Tag:noindex
X-PUBLISHED-TTL:PT1H
BEGIN:VTIMEZONE
TZID:Europe/London
BEGIN:DAYLIGHT
TZOFFSETFROM:+0000
TZOFFSETTO:+0100
TZNAME:BST
DTSTART:20250330T010000
END:DAYLIGHT
BEGIN:STANDARD
TZOFFSETFROM:+0100
TZOFFSETTO:+0000
TZNAME:GMT
DTSTART:20251026T010000
END:STANDARD
BEGIN:DAYLIGHT
TZOFFSETFROM:+0000
TZOFFSETTO:+0100
TZNAME:BST
DTSTART:20260329T010000
END:DAYLIGHT
BEGIN:STANDARD
TZOFFSETFROM:+0100
TZOFFSETTO:+0000
TZNAME:GMT
DTSTART:20261025T010000
END:STANDARD
BEGIN:DAYLIGHT
TZOFFSETFROM:+0000
TZOFFSETTO:+0100
TZNAME:BST
DTSTART:20270328T010000
END:DAYLIGHT
BEGIN:STANDARD
TZOFFSETFROM:+0100
TZOFFSETTO:+0000
TZNAME:GMT
DTSTART:20271031T010000
END:STANDARD
END:VTIMEZONE
BEGIN:VEVENT
DTSTART;TZID=Europe/London:20260219T080000
DTEND;TZID=Europe/London:20260319T170000
DTSTAMP:20260422T233450
CREATED:20260219T162717Z
LAST-MODIFIED:20260219T162740Z
UID:6501-1771488000-1773939600@jmahdawah.org
SUMMARY:Fajr Fighters & Taraweeh Troopers
DESCRIPTION:🌙✨ Ramadan Kids’ Attendance Challenge at JMAH Halifax! ✨🌙 \nThis Ramadan\, earn points and win prizes just by attending prayers from Friday Taraweehs to Sunday Fajrs: \n🕌 Taraweehs – 3 points\n🌅 Fajrs – 5 points \nImportant: \n✅ Boys only\, aged 7–16\n✅ Must check in with one of the Madrasa staff\n✅ Must attend with an adult\nThe more you attend\, the more points you earn… and the bigger your chance to win amazing prizes! 🎁 \nBring your friends\, have fun\, and make this Ramadan extra special! 💫 \n📍 JMAH Halifax – See you there! \nPlease use the following page to register;\n\n        \n    \n        This event has now ended.
URL:https://jmahdawah.org/event/fajr-fighters-taraweeh-troopers/
ATTACH;FMTTYPE=image/jpeg:https://jmahdawah.org/wp-content/uploads/2026/02/WhatsApp-Image-2026-02-18-at-12.05.27-PM.jpeg
END:VEVENT
BEGIN:VEVENT
DTSTART;TZID=Europe/London:20260403T170000
DTEND;TZID=Europe/London:20260403T200000
DTSTAMP:20260422T233450
CREATED:20260324T215356Z
LAST-MODIFIED:20260324T215614Z
UID:6568-1775235600-1775246400@jmahdawah.org
SUMMARY:Brothers Eid Party
DESCRIPTION:🌙 Eid Party at the Mosque 🌙 \nYou’re all invited to our Eid celebration at the mosque! 🎉 \n🗓 Date: Friday 3rd April\n🕰 Time: From Asr (5:15) until Maghrib (7:47) \n🎟 Entry:\n•⁠ ⁠£5 for adults\n•⁠ ⁠£3 for kids (Under 13’s) \n📌 Kids must be adult-supervised throughout \n✨ What to expect: \n•⁠ ⁠Activities\n•⁠ ⁠Food & Dessert\n•⁠ ⁠A good brother get together \nBring your friends and family and join us for a fun and enjoyable evening\, insha’Allah. We look forward to seeing you all there! 🤍 \n        \n                                                \n                        \n                        \n                \n                \n                                    \n                        \n                First Name\n            \n                    \n                \n            \n        \n                \n                        \n                Last Name\n            \n                    \n                \n            \n        \n                \n                        \n                Email Address\n            \n                    \n                \n            \n        \n                \n                        \n                Mobile/Telephone Number\n            \n                    \n                \n            \n        \n                \n                        \n                Enter names of additional people attending\n            \n                    \n                \n            \n        \n                \n                        \n                                \n                        \n                            \n                                                                Entry Ticket\n                                Item Price\n                                Quantity\n                            \n                        \n                        \n                                                            \n                                                                        \n                                        Under 9's                                        \n                                    \n                                    \n                                        \n                                                                                £3\n                                                                                \n                                    \n                                    \n                                                                                \n                                    \n                                \n                                                            \n                                                                        \n                                        Ages 9+                                        \n                                    \n                                    \n                                        \n                                                                                £5\n                                                                                \n                                    \n                                    \n                                                                                \n                                    \n                                \n                                                    \n                                                    \n                                \n                                    \n                                        Sub Total                                    \n                                    \n                                        \n                                    \n                                \n                            \n                                            \n                            \n                \n                \n                \n                \n                    \n                        Pay \n                        \n                            Please Wait…                        \n                    \n                    \n                        \n                            \n                            \n                                \n                            \n                        \n                    \n                \n                            \n                            \n                                    Registrations for this event has now ended.
URL:https://jmahdawah.org/event/brothers-eid-party/
LOCATION:Main Hall – Building 1\, JMAH - 97 Hopwood Lane\, Halifax\, HX1 4ET\, United Kingdom
ATTACH;FMTTYPE=image/jpeg:https://jmahdawah.org/wp-content/uploads/2026/03/WhatsApp-Image-2026-03-24-at-19.36.33.jpeg
END:VEVENT
BEGIN:VEVENT
DTSTART;TZID=Europe/London:20260404T100000
DTEND;TZID=Europe/London:20261225T123000
DTSTAMP:20260422T233450
CREATED:20260222T150738Z
LAST-MODIFIED:20260222T150738Z
UID:6525-1775296800-1798201800@jmahdawah.org
SUMMARY:Girls Saturday Class - 2026
DESCRIPTION:  \n\n        \n    \n         \n                    \n                            \n            \n                \n                    \n                        First Name*Last Name*Student Age*Parent's Name*Parent's Mobile Number*Email*Send                     \n                    \n\n                \n                    \n                    \n                    \n\n                    \n                                        \n                        Error occured. Please confirm your data and submit again:
URL:https://jmahdawah.org/event/girls-saturday-class-2026/
END:VEVENT
BEGIN:VEVENT
DTSTART;TZID=Europe/London:20260419T150000
DTEND;TZID=Europe/London:20260419T173000
DTSTAMP:20260422T233450
CREATED:20260410T211110Z
LAST-MODIFIED:20260410T211152Z
UID:6576-1776610800-1776619800@jmahdawah.org
SUMMARY:Sisters Social - Eid Party - Bring a dish event!
DESCRIPTION:https://jmahdawah.org/wp-content/uploads/2026/04/WhatsApp-Video-2026-04-10-at-09.12.59.mp4\n💜 Sister’s Social Alert!! 💜 \nAssalamu alaikum lovely sisters 💜 \nWe miss you all….\nFrom seeing each other almost every night in Taraweeh to suddenly not seeing one another at all… it feels like something is missing 🥺✨ \nSo let’s change that and come together again! Join us for a cozy post-Ramadan sisters meet up — a “bring-a-dish” (savoury or sweet) social filled with good food\, laughter\, and even better company 🍰🍲💕 \nIt’s the perfect chance to reconnect\, strengthen our sisterhood\, and keep that beautiful Ramadan spirit alive in our hearts 🤍 \nBring a dish\, bring a friend\, and most importantly bring your lovely self! Can’t wait to see you all again inshaAllah 💫 \nLet’s create something beautiful together 🥰 \n🗓 Date: Sunday\, 19th April\n🕒 Time: 3:00 PM – 5:30 PM\n📍 Venue: JMAH 97 Hopwood Lane\n💷 Entry: Free event!\nRegistration Link; \nSisters Social
URL:https://jmahdawah.org/event/sisters-social-eid-party-bring-a-dish-event/
END:VEVENT
END:VCALENDAR