BEGIN:VCALENDAR
VERSION:2.0
PRODID:-//JMAH  - Jamia Masjid Ahl-e-Hadith, Halifax - ECPv6.15.17.1//NONSGML v1.0//EN
CALSCALE:GREGORIAN
METHOD:PUBLISH
X-ORIGINAL-URL:https://jmahdawah.org
X-WR-CALDESC:Events for JMAH  - Jamia Masjid Ahl-e-Hadith, Halifax
REFRESH-INTERVAL;VALUE=DURATION:PT1H
X-Robots-Tag:noindex
X-PUBLISHED-TTL:PT1H
BEGIN:VTIMEZONE
TZID:Europe/London
BEGIN:DAYLIGHT
TZOFFSETFROM:+0000
TZOFFSETTO:+0100
TZNAME:BST
DTSTART:20250330T010000
END:DAYLIGHT
BEGIN:STANDARD
TZOFFSETFROM:+0100
TZOFFSETTO:+0000
TZNAME:GMT
DTSTART:20251026T010000
END:STANDARD
BEGIN:DAYLIGHT
TZOFFSETFROM:+0000
TZOFFSETTO:+0100
TZNAME:BST
DTSTART:20260329T010000
END:DAYLIGHT
BEGIN:STANDARD
TZOFFSETFROM:+0100
TZOFFSETTO:+0000
TZNAME:GMT
DTSTART:20261025T010000
END:STANDARD
BEGIN:DAYLIGHT
TZOFFSETFROM:+0000
TZOFFSETTO:+0100
TZNAME:BST
DTSTART:20270328T010000
END:DAYLIGHT
BEGIN:STANDARD
TZOFFSETFROM:+0100
TZOFFSETTO:+0000
TZNAME:GMT
DTSTART:20271031T010000
END:STANDARD
END:VTIMEZONE
BEGIN:VEVENT
DTSTART;TZID=Europe/London:20260214T150000
DTEND;TZID=Europe/London:20260214T173000
DTSTAMP:20260422T183552
CREATED:20260206T094455Z
LAST-MODIFIED:20260206T094455Z
UID:6477-1771081200-1771090200@jmahdawah.org
SUMMARY:Sister's Social - Ramadan Vision Evening
DESCRIPTION:🌷Sister’s social Halifax presents… 🌷 \nRamadan Vision Board Evening 🌙⭐️ \nA cosy sister’s gathering to slow down\, reflect\, and set intentions as we prepare our hearts for Ramadan. \nWhat to expect! 🥰\nGentle reminders of the most blessed and honourable month to come – Ramadhan. Surrounded by warmth\, creativity\, and sisterhood\, we’ll visualise the goals we’re making duʿāʾ for in this blessed month and create our own vision boards in sha Allah! 🎀 \nWhen you can see your intentions\, they become a gentle reminder bringing clarity\, focus\, and barakah into your days. You may carry hopes and goals that inspire others\, so come share\, uplift\, and support your sisters in a space filled with sincerity and love 💕 \nLet’s create something beautiful together 💖 \nMay Allah place barakah in our intentions and allow them to draw us closer to Him. ✨🌙 \n🗓 Date: Sunday\, 14th December\n🕒 Time: 3:00 PM – 5:30 PM\n📍 Venue: JMAH 97 Hopwood Lane\n💷 Entry Fee: £3 per sister \nWe love meeting you all and can’t wait to see you there. 🥰\nAll sisters welcome!
URL:https://jmahdawah.org/event/sisters-social-ramadan-vision-evening/
LOCATION:Sisters Classroom – Building 2\, JMAH - 97 Hopwood Lane\, Halifax\, England\, HX1 4ET\, United Kingdom
ATTACH;FMTTYPE=image/jpeg:https://jmahdawah.org/wp-content/uploads/2026/02/WhatsApp-Image-2026-02-05-at-4.33.42-PM.jpeg
ORGANIZER;CN="JMAH":MAILTO:jmahdawah@gmail.com
END:VEVENT
END:VCALENDAR