BEGIN:VCALENDAR
VERSION:2.0
PRODID:-//JMAH  - Jamia Masjid Ahl-e-Hadith, Halifax - ECPv6.15.17.1//NONSGML v1.0//EN
CALSCALE:GREGORIAN
METHOD:PUBLISH
X-ORIGINAL-URL:https://jmahdawah.org
X-WR-CALDESC:Events for JMAH  - Jamia Masjid Ahl-e-Hadith, Halifax
REFRESH-INTERVAL;VALUE=DURATION:PT1H
X-Robots-Tag:noindex
X-PUBLISHED-TTL:PT1H
BEGIN:VTIMEZONE
TZID:Europe/London
BEGIN:DAYLIGHT
TZOFFSETFROM:+0000
TZOFFSETTO:+0100
TZNAME:BST
DTSTART:20240331T010000
END:DAYLIGHT
BEGIN:STANDARD
TZOFFSETFROM:+0100
TZOFFSETTO:+0000
TZNAME:GMT
DTSTART:20241027T010000
END:STANDARD
BEGIN:DAYLIGHT
TZOFFSETFROM:+0000
TZOFFSETTO:+0100
TZNAME:BST
DTSTART:20250330T010000
END:DAYLIGHT
BEGIN:STANDARD
TZOFFSETFROM:+0100
TZOFFSETTO:+0000
TZNAME:GMT
DTSTART:20251026T010000
END:STANDARD
BEGIN:DAYLIGHT
TZOFFSETFROM:+0000
TZOFFSETTO:+0100
TZNAME:BST
DTSTART:20260329T010000
END:DAYLIGHT
BEGIN:STANDARD
TZOFFSETFROM:+0100
TZOFFSETTO:+0000
TZNAME:GMT
DTSTART:20261025T010000
END:STANDARD
END:VTIMEZONE
BEGIN:VEVENT
DTSTART;TZID=Europe/London:20251225T184500
DTEND;TZID=Europe/London:20251225T193000
DTSTAMP:20260422T215829
CREATED:20251217T221917Z
LAST-MODIFIED:20251217T221917Z
UID:6446-1766688300-1766691000@jmahdawah.org
SUMMARY:Chai Chat
DESCRIPTION:Brothers Chai & Chat – December \nBrothers Chai & Chat Event ☕️🗣️ \n📅 Date: Thursday 25th December\n🕰️ Time: After Isha (6:45pm)\n📍 Location: JMAH Halifax 🕌 \nJoin us for a relaxed Chai & Chat with the brothers — good chai\, good vibes\, and good conversation 🤝 \nNo talks\, no agenda\, just a chilled space to unwind and connect. \n💰 £5 per person to cover food and refreshments 🍽️☕️ \nAll brothers welcome — feel free to bring a friend 👍 \nPlease use the following form to register your attendance; \n        \n                                                \n                        \n                        \n                \n                \n                                    \n                        \n                First Name\n            \n                    \n                \n            \n        \n                \n                        \n                Last Name\n            \n                    \n                \n            \n        \n                \n                        \n                Email Address\n            \n                    \n                \n            \n        \n                \n                        \n                Mobile/Telephone Number\n            \n                    \n                \n            \n        \n                \n                        \n                Enter names of additional people attending\n            \n                    \n                \n            \n        \n                \n                        \n                                \n                        \n                            \n                                                                Entry Ticket\n                                Item Price\n                                Quantity\n                            \n                        \n                        \n                                                            \n                                                                        \n                                        Under 9's                                        \n                                    \n                                    \n                                        \n                                                                                £3\n                                                                                \n                                    \n                                    \n                                                                                \n                                    \n                                \n                                                            \n                                                                        \n                                        Ages 9+                                        \n                                    \n                                    \n                                        \n                                                                                £5\n                                                                                \n                                    \n                                    \n                                                                                \n                                    \n                                \n                                                    \n                                                    \n                                \n                                    \n                                        Sub Total                                    \n                                    \n                                        \n                                    \n                                \n                            \n                                            \n                            \n                \n                \n                \n                \n                    \n                        Pay \n                        \n                            Please Wait…                        \n                    \n                    \n                        \n                            \n                            \n                                \n                            \n                        \n                    \n                \n                            \n                            \n                                    Registrations for this event has now ended.
URL:https://jmahdawah.org/event/chai-chat/
LOCATION:Main Hall – Building 1\, JMAH - 97 Hopwood Lane\, Halifax\, HX1 4ET\, United Kingdom
ATTACH;FMTTYPE=image/jpeg:https://jmahdawah.org/wp-content/uploads/2025/12/WhatsApp-Image-2025-12-17-at-09.07.52.jpeg
END:VEVENT
END:VCALENDAR