BEGIN:VCALENDAR
VERSION:2.0
PRODID:-//JMAH  - Jamia Masjid Ahl-e-Hadith, Halifax - ECPv6.15.17.1//NONSGML v1.0//EN
CALSCALE:GREGORIAN
METHOD:PUBLISH
X-WR-CALNAME:JMAH  - Jamia Masjid Ahl-e-Hadith, Halifax
X-ORIGINAL-URL:https://jmahdawah.org
X-WR-CALDESC:Events for JMAH  - Jamia Masjid Ahl-e-Hadith, Halifax
REFRESH-INTERVAL;VALUE=DURATION:PT1H
X-Robots-Tag:noindex
X-PUBLISHED-TTL:PT1H
BEGIN:VTIMEZONE
TZID:Europe/London
BEGIN:DAYLIGHT
TZOFFSETFROM:+0000
TZOFFSETTO:+0100
TZNAME:BST
DTSTART:20240331T010000
END:DAYLIGHT
BEGIN:STANDARD
TZOFFSETFROM:+0100
TZOFFSETTO:+0000
TZNAME:GMT
DTSTART:20241027T010000
END:STANDARD
BEGIN:DAYLIGHT
TZOFFSETFROM:+0000
TZOFFSETTO:+0100
TZNAME:BST
DTSTART:20250330T010000
END:DAYLIGHT
BEGIN:STANDARD
TZOFFSETFROM:+0100
TZOFFSETTO:+0000
TZNAME:GMT
DTSTART:20251026T010000
END:STANDARD
BEGIN:DAYLIGHT
TZOFFSETFROM:+0000
TZOFFSETTO:+0100
TZNAME:BST
DTSTART:20260329T010000
END:DAYLIGHT
BEGIN:STANDARD
TZOFFSETFROM:+0100
TZOFFSETTO:+0000
TZNAME:GMT
DTSTART:20261025T010000
END:STANDARD
END:VTIMEZONE
BEGIN:VEVENT
DTSTART;TZID=Europe/London:20251219T163000
DTEND;TZID=Europe/London:20251219T193000
DTSTAMP:20260422T215443
CREATED:20251202T170107Z
LAST-MODIFIED:20251202T170107Z
UID:6420-1766161800-1766172600@jmahdawah.org
SUMMARY:Children's Workshop : The Story of Prophet Eesa
DESCRIPTION:JMAH Halifax Presents: \nA Children’s Workshop : The Story of Prophet Eesa. \nFriday 19th December 2025\, 4:30pm till 7:30pm \nPlease see the poster for more information and how to register.
URL:https://jmahdawah.org/event/childrens-workshop-the-story-of-prophet-eesa/
ATTACH;FMTTYPE=image/jpeg:https://jmahdawah.org/wp-content/uploads/2025/12/WhatsApp-Image-2025-12-02-at-11.38.30.jpeg
END:VEVENT
END:VCALENDAR