BEGIN:VCALENDAR
VERSION:2.0
PRODID:-//JMAH  - Jamia Masjid Ahl-e-Hadith, Halifax - ECPv6.15.17.1//NONSGML v1.0//EN
CALSCALE:GREGORIAN
METHOD:PUBLISH
X-ORIGINAL-URL:https://jmahdawah.org
X-WR-CALDESC:Events for JMAH  - Jamia Masjid Ahl-e-Hadith, Halifax
REFRESH-INTERVAL;VALUE=DURATION:PT1H
X-Robots-Tag:noindex
X-PUBLISHED-TTL:PT1H
BEGIN:VTIMEZONE
TZID:Europe/London
BEGIN:DAYLIGHT
TZOFFSETFROM:+0000
TZOFFSETTO:+0100
TZNAME:BST
DTSTART:20240331T010000
END:DAYLIGHT
BEGIN:STANDARD
TZOFFSETFROM:+0100
TZOFFSETTO:+0000
TZNAME:GMT
DTSTART:20241027T010000
END:STANDARD
BEGIN:DAYLIGHT
TZOFFSETFROM:+0000
TZOFFSETTO:+0100
TZNAME:BST
DTSTART:20250330T010000
END:DAYLIGHT
BEGIN:STANDARD
TZOFFSETFROM:+0100
TZOFFSETTO:+0000
TZNAME:GMT
DTSTART:20251026T010000
END:STANDARD
BEGIN:DAYLIGHT
TZOFFSETFROM:+0000
TZOFFSETTO:+0100
TZNAME:BST
DTSTART:20260329T010000
END:DAYLIGHT
BEGIN:STANDARD
TZOFFSETFROM:+0100
TZOFFSETTO:+0000
TZNAME:GMT
DTSTART:20261025T010000
END:STANDARD
END:VTIMEZONE
BEGIN:VEVENT
DTSTART;TZID=Europe/London:20251214T150000
DTEND;TZID=Europe/London:20251214T173000
DTSTAMP:20260422T233046
CREATED:20251208T154333Z
LAST-MODIFIED:20251208T154347Z
UID:6443-1765724400-1765733400@jmahdawah.org
SUMMARY:Sisters Social : Women In Islam Series
DESCRIPTION:💖 Sister’s Social Alert! 💖\nWomen in Islam series continued 🎀 \nLadies\, Maryam (as) is our inspiration this month\, and we’re celebrating with a cosy\, creative evening just for sisters! 💕 \nJoin us for a super-relaxing mini wooden trinket bowl painting activity 🎨🪵 — perfect for women and young girls who want to unwind\, get artsy\, and connect with like-minded sisters in our community. \nWhat to expect! 🎀\nGood vibes\, gentle reminders of Maryam (as) strength\, grace\, reliance upon Allah and a whole lot of laughs. Bring your creativity… or just your need for a break. we’ve got the rest covered! 😃 \n💗 Being around other women helps us regulate our emotions — come connect\, eat good food\, breathe\, laugh\, and release those happy endorphins together 💖 \nWe love meeting you all and can’t wait to see you there.\nAll sisters welcome! \nLet’s create something beautiful together 💖 \n🗓 Date: Sunday\, 14th December\n🕒 Time: 3:00 PM – 5:30 PM\n📍 Venue: JMAH 97 Hopwood Lane\n💷 Entry Fee: £3 per sister \nClick Here to register
URL:https://jmahdawah.org/event/sisters-social-women-in-islam-series-2/
LOCATION:Sisters Classroom – Building 2\, JMAH - 97 Hopwood Lane\, Halifax\, England\, HX1 4ET\, United Kingdom
ATTACH;FMTTYPE=image/jpeg:https://jmahdawah.org/wp-content/uploads/2025/11/WhatsApp-Image-2025-11-17-at-11.27.15.jpeg
END:VEVENT
END:VCALENDAR