BEGIN:VCALENDAR
VERSION:2.0
PRODID:-//JMAH  - Jamia Masjid Ahl-e-Hadith, Halifax - ECPv6.15.17.1//NONSGML v1.0//EN
CALSCALE:GREGORIAN
METHOD:PUBLISH
X-ORIGINAL-URL:https://jmahdawah.org
X-WR-CALDESC:Events for JMAH  - Jamia Masjid Ahl-e-Hadith, Halifax
REFRESH-INTERVAL;VALUE=DURATION:PT1H
X-Robots-Tag:noindex
X-PUBLISHED-TTL:PT1H
BEGIN:VTIMEZONE
TZID:Europe/London
BEGIN:DAYLIGHT
TZOFFSETFROM:+0000
TZOFFSETTO:+0100
TZNAME:BST
DTSTART:20240331T010000
END:DAYLIGHT
BEGIN:STANDARD
TZOFFSETFROM:+0100
TZOFFSETTO:+0000
TZNAME:GMT
DTSTART:20241027T010000
END:STANDARD
BEGIN:DAYLIGHT
TZOFFSETFROM:+0000
TZOFFSETTO:+0100
TZNAME:BST
DTSTART:20250330T010000
END:DAYLIGHT
BEGIN:STANDARD
TZOFFSETFROM:+0100
TZOFFSETTO:+0000
TZNAME:GMT
DTSTART:20251026T010000
END:STANDARD
BEGIN:DAYLIGHT
TZOFFSETFROM:+0000
TZOFFSETTO:+0100
TZNAME:BST
DTSTART:20260329T010000
END:DAYLIGHT
BEGIN:STANDARD
TZOFFSETFROM:+0100
TZOFFSETTO:+0000
TZNAME:GMT
DTSTART:20261025T010000
END:STANDARD
END:VTIMEZONE
BEGIN:VEVENT
DTSTART;TZID=Europe/London:20250903T194500
DTEND;TZID=Europe/London:20251001T210000
DTSTAMP:20260422T233041
CREATED:20250910T213313Z
LAST-MODIFIED:20250910T213352Z
UID:6282-1756928700-1759352400@jmahdawah.org
SUMMARY:The Fiqh of Allah's Beautiful Names
DESCRIPTION:Join us for our next class with Shaykh Imraan Mollagee \n📖 The Fiqh of Allah’s Beautiful Names by Shaykh Abdur-Razzaq Al-Badr \n🗓 Starting Today Wednesday\, 3rd September Every Wednesday after that …\n⏰ 7:45pm\n📍 Brothers : Men’s Main Hall\,\nSisters : Sisters Hall \n•⁠ ⁠FREE & open to all (brothers & sisters\, beginners & beyond)\n•⁠ ⁠Supportive\, welcoming environment\n•⁠ ⁠The class will start after maghrib Salah 3rd and 10th September
URL:https://jmahdawah.org/event/the-fiqh-of-allahs-beautiful-names/
LOCATION:Brothers – Building 1 Classroom / Sisters – Sisters Main Hall\, JMAH - 97 Hopwood Lane\, Halifax\, England\, HX1 4ET\, United Kingdom
ATTACH;FMTTYPE=image/jpeg:https://jmahdawah.org/wp-content/uploads/2025/09/WhatsApp-Image-2025-09-10-at-3.29.52 pm.jpeg
ORGANIZER;CN="JMAH":MAILTO:jmahdawah@gmail.com
END:VEVENT
END:VCALENDAR