BEGIN:VCALENDAR
VERSION:2.0
PRODID:-//JMAH  - Jamia Masjid Ahl-e-Hadith, Halifax - ECPv6.15.17.1//NONSGML v1.0//EN
CALSCALE:GREGORIAN
METHOD:PUBLISH
X-WR-CALNAME:JMAH  - Jamia Masjid Ahl-e-Hadith, Halifax
X-ORIGINAL-URL:https://jmahdawah.org
X-WR-CALDESC:Events for JMAH  - Jamia Masjid Ahl-e-Hadith, Halifax
REFRESH-INTERVAL;VALUE=DURATION:PT1H
X-Robots-Tag:noindex
X-PUBLISHED-TTL:PT1H
BEGIN:VTIMEZONE
TZID:Europe/London
BEGIN:DAYLIGHT
TZOFFSETFROM:+0000
TZOFFSETTO:+0100
TZNAME:BST
DTSTART:20240331T010000
END:DAYLIGHT
BEGIN:STANDARD
TZOFFSETFROM:+0100
TZOFFSETTO:+0000
TZNAME:GMT
DTSTART:20241027T010000
END:STANDARD
BEGIN:DAYLIGHT
TZOFFSETFROM:+0000
TZOFFSETTO:+0100
TZNAME:BST
DTSTART:20250330T010000
END:DAYLIGHT
BEGIN:STANDARD
TZOFFSETFROM:+0100
TZOFFSETTO:+0000
TZNAME:GMT
DTSTART:20251026T010000
END:STANDARD
BEGIN:DAYLIGHT
TZOFFSETFROM:+0000
TZOFFSETTO:+0100
TZNAME:BST
DTSTART:20260329T010000
END:DAYLIGHT
BEGIN:STANDARD
TZOFFSETFROM:+0100
TZOFFSETTO:+0000
TZNAME:GMT
DTSTART:20261025T010000
END:STANDARD
END:VTIMEZONE
BEGIN:VEVENT
DTSTART;TZID=Europe/London:20250430T194500
DTEND;TZID=Europe/London:20250730T200000
DTSTAMP:20260422T232715
CREATED:20241225T223615Z
LAST-MODIFIED:20250427T093453Z
UID:5645-1746042300-1753905600@jmahdawah.org
SUMMARY:Foundations of Faith
DESCRIPTION:This course resumes this Wednesday 30th April 2025\nDelivered by Shaykh Imraan Mollagee – Graduate from the Islamic University of Madinah \nStarting on Wednesday 8th January 2025\, running every Wednesday for 8 weeks\, 7:45pm – 8:30pm\, this is a classroom based structured course with exams and a course completion certificate at the end. \nWhy Enrol: \n\nQualified Shaykh delivering the course\nCourse material (presentation) provided\nExams at the end of each module\nClassroom based learning\nFree Course\n\nThe Course Will Cover: \n\nWhat is Fiqh?\nEvolution of Fiqh over time\nOrigin of the Madhaahib of Fiqh\nFollowing a Madhab?\nA glance at the sources of Islamic Law\n\nThis course requires prior enrolment\, please use the following form to register: \n\n        \n    \n        Registrations for this even have now closed.
URL:https://jmahdawah.org/event/foundations-of-faith/
LOCATION:Brothers – Building 1 Classroom / Sisters – Sisters Main Hall\, JMAH - 97 Hopwood Lane\, Halifax\, England\, HX1 4ET\, United Kingdom
ATTACH;FMTTYPE=image/jpeg:https://jmahdawah.org/wp-content/uploads/2024/12/Final-Fiqh-scaled.jpg
ORGANIZER;CN="JMAH":MAILTO:jmahdawah@gmail.com
END:VEVENT
END:VCALENDAR