BEGIN:VCALENDAR
VERSION:2.0
PRODID:-//JMAH  - Jamia Masjid Ahl-e-Hadith, Halifax - ECPv6.15.17.1//NONSGML v1.0//EN
CALSCALE:GREGORIAN
METHOD:PUBLISH
X-WR-CALNAME:JMAH  - Jamia Masjid Ahl-e-Hadith, Halifax
X-ORIGINAL-URL:https://jmahdawah.org
X-WR-CALDESC:Events for JMAH  - Jamia Masjid Ahl-e-Hadith, Halifax
REFRESH-INTERVAL;VALUE=DURATION:PT1H
X-Robots-Tag:noindex
X-PUBLISHED-TTL:PT1H
BEGIN:VTIMEZONE
TZID:Europe/London
BEGIN:DAYLIGHT
TZOFFSETFROM:+0000
TZOFFSETTO:+0100
TZNAME:BST
DTSTART:20240331T010000
END:DAYLIGHT
BEGIN:STANDARD
TZOFFSETFROM:+0100
TZOFFSETTO:+0000
TZNAME:GMT
DTSTART:20241027T010000
END:STANDARD
BEGIN:DAYLIGHT
TZOFFSETFROM:+0000
TZOFFSETTO:+0100
TZNAME:BST
DTSTART:20250330T010000
END:DAYLIGHT
BEGIN:STANDARD
TZOFFSETFROM:+0100
TZOFFSETTO:+0000
TZNAME:GMT
DTSTART:20251026T010000
END:STANDARD
BEGIN:DAYLIGHT
TZOFFSETFROM:+0000
TZOFFSETTO:+0100
TZNAME:BST
DTSTART:20260329T010000
END:DAYLIGHT
BEGIN:STANDARD
TZOFFSETFROM:+0100
TZOFFSETTO:+0000
TZNAME:GMT
DTSTART:20261025T010000
END:STANDARD
END:VTIMEZONE
BEGIN:VEVENT
DTSTART;TZID=Europe/London:20250106T194500
DTEND;TZID=Europe/London:20250210T203000
DTSTAMP:20260422T133255
CREATED:20241225T225639Z
LAST-MODIFIED:20250106T223545Z
UID:5654-1736192700-1739219400@jmahdawah.org
SUMMARY:An Introduction to Aqeedah
DESCRIPTION:DATE CHANGE : Islamic courses will commence from week commencing Monday 13th January 2025 not 6th January as planned\nDelivered by Shaykh Imraan Mollagee – Graduate from the Islamic University of Madinah \nStarting on Monday 6th January 2025\, running every Monday for 8 weeks\, 7:45pm – 8:30pm\, this is a classroom based structured course with exams and a course completion certificate at the end. \nWhy Enrol: \n\nQualified Shaykh delivering the course\nCourse material (presentation) provided\nExams at the end of each module\nClassroom based learning\nFree Course\n\nThe Course Will Cover: \n\nImportance of Studying Aqeedah\nA study of Tawheed\nThe three fundamental principles.\nAl-Walaa` wal-Baraa\nPlus more more …\n\nThis course requires prior enrolment\, please use the following form to register: \n\n        \n    \n        Registrations for this even have now closed.
URL:https://jmahdawah.org/event/an-introduction-to-aqeedah/
LOCATION:Brothers – Building 1 Classroom / Sisters – Sisters Main Hall\, JMAH - 97 Hopwood Lane\, Halifax\, England\, HX1 4ET\, United Kingdom
ATTACH;FMTTYPE=image/jpeg:https://jmahdawah.org/wp-content/uploads/2024/12/Final-Aqeedah-scaled.jpg
ORGANIZER;CN="JMAH":MAILTO:jmahdawah@gmail.com
END:VEVENT
BEGIN:VEVENT
DTSTART;TZID=Europe/London:20250107T194500
DTEND;TZID=Europe/London:20250211T203000
DTSTAMP:20260422T133255
CREATED:20241225T230313Z
LAST-MODIFIED:20250106T223535Z
UID:5657-1736279100-1739305800@jmahdawah.org
SUMMARY:Quran Halaqah with Shaykh Imraan
DESCRIPTION:DATE CHANGE : Islamic courses will commence from week commencing Monday 13th January 2025 not 7th January as planned\nStarting on Tuesday 7th January 2025\, running every Tuesday\, from 7:45pm – 8:30pm \nThe aim of this course is to improve your recitation with proper pronunciation and tajweed\, to understand the general meaning of the ayah and to learn the message of the surah \nThis course requires no prior enrolment. \n 
URL:https://jmahdawah.org/event/quran-halaqahs/
LOCATION:Brothers – Building 1 Classroom / Sisters – Sisters Main Hall\, JMAH - 97 Hopwood Lane\, Halifax\, England\, HX1 4ET\, United Kingdom
ATTACH;FMTTYPE=image/jpeg:https://jmahdawah.org/wp-content/uploads/2024/12/Final-Quran-scaled.jpg
ORGANIZER;CN="JMAH":MAILTO:jmahdawah@gmail.com
END:VEVENT
END:VCALENDAR