BEGIN:VCALENDAR
VERSION:2.0
PRODID:-//JMAH  - Jamia Masjid Ahl-e-Hadith, Halifax - ECPv6.15.17.1//NONSGML v1.0//EN
CALSCALE:GREGORIAN
METHOD:PUBLISH
X-ORIGINAL-URL:https://jmahdawah.org
X-WR-CALDESC:Events for JMAH  - Jamia Masjid Ahl-e-Hadith, Halifax
REFRESH-INTERVAL;VALUE=DURATION:PT1H
X-Robots-Tag:noindex
X-PUBLISHED-TTL:PT1H
BEGIN:VTIMEZONE
TZID:Europe/London
BEGIN:DAYLIGHT
TZOFFSETFROM:+0000
TZOFFSETTO:+0100
TZNAME:BST
DTSTART:20230326T010000
END:DAYLIGHT
BEGIN:STANDARD
TZOFFSETFROM:+0100
TZOFFSETTO:+0000
TZNAME:GMT
DTSTART:20231029T010000
END:STANDARD
BEGIN:DAYLIGHT
TZOFFSETFROM:+0000
TZOFFSETTO:+0100
TZNAME:BST
DTSTART:20240331T010000
END:DAYLIGHT
BEGIN:STANDARD
TZOFFSETFROM:+0100
TZOFFSETTO:+0000
TZNAME:GMT
DTSTART:20241027T010000
END:STANDARD
BEGIN:DAYLIGHT
TZOFFSETFROM:+0000
TZOFFSETTO:+0100
TZNAME:BST
DTSTART:20250330T010000
END:DAYLIGHT
BEGIN:STANDARD
TZOFFSETFROM:+0100
TZOFFSETTO:+0000
TZNAME:GMT
DTSTART:20251026T010000
END:STANDARD
END:VTIMEZONE
BEGIN:VEVENT
DTSTART;TZID=Europe/London:20240120T163000
DTEND;TZID=Europe/London:20240420T183000
DTSTAMP:20260423T104149
CREATED:20240110T214410Z
LAST-MODIFIED:20240116T144627Z
UID:5035-1705768200-1713637800@jmahdawah.org
SUMMARY:Three Questions of the Grave
DESCRIPTION:JMAH Halifax Presents; \nA 4 week course on The 3 Questions of the Grave With Ustaadh Abu Mohammed. \nOpen to Brothers and Sisters\, Starting Saturday 20th January and then every Saturday there after \nFree Event \n 
URL:https://jmahdawah.org/event/three-questions/
LOCATION:Main Hall – Building 1\, JMAH - 97 Hopwood Lane\, Halifax\, HX1 4ET\, United Kingdom
ATTACH;FMTTYPE=image/jpeg:https://jmahdawah.org/wp-content/uploads/2024/01/V1-scaled.jpg
ORGANIZER;CN="JMAH":MAILTO:jmahdawah@gmail.com
END:VEVENT
END:VCALENDAR