BEGIN:VCALENDAR
VERSION:2.0
PRODID:-//JMAH  - Jamia Masjid Ahl-e-Hadith, Halifax - ECPv6.15.17.1//NONSGML v1.0//EN
CALSCALE:GREGORIAN
METHOD:PUBLISH
X-WR-CALNAME:JMAH  - Jamia Masjid Ahl-e-Hadith, Halifax
X-ORIGINAL-URL:https://jmahdawah.org
X-WR-CALDESC:Events for JMAH  - Jamia Masjid Ahl-e-Hadith, Halifax
REFRESH-INTERVAL;VALUE=DURATION:PT1H
X-Robots-Tag:noindex
X-PUBLISHED-TTL:PT1H
BEGIN:VTIMEZONE
TZID:Europe/London
BEGIN:DAYLIGHT
TZOFFSETFROM:+0000
TZOFFSETTO:+0100
TZNAME:BST
DTSTART:20230326T010000
END:DAYLIGHT
BEGIN:STANDARD
TZOFFSETFROM:+0100
TZOFFSETTO:+0000
TZNAME:GMT
DTSTART:20231029T010000
END:STANDARD
BEGIN:DAYLIGHT
TZOFFSETFROM:+0000
TZOFFSETTO:+0100
TZNAME:BST
DTSTART:20240331T010000
END:DAYLIGHT
BEGIN:STANDARD
TZOFFSETFROM:+0100
TZOFFSETTO:+0000
TZNAME:GMT
DTSTART:20241027T010000
END:STANDARD
BEGIN:DAYLIGHT
TZOFFSETFROM:+0000
TZOFFSETTO:+0100
TZNAME:BST
DTSTART:20250330T010000
END:DAYLIGHT
BEGIN:STANDARD
TZOFFSETFROM:+0100
TZOFFSETTO:+0000
TZNAME:GMT
DTSTART:20251026T010000
END:STANDARD
END:VTIMEZONE
BEGIN:VEVENT
DTSTART;TZID=Europe/London:20240120T163000
DTEND;TZID=Europe/London:20240420T183000
DTSTAMP:20260423T152922
CREATED:20240110T214410Z
LAST-MODIFIED:20240116T144627Z
UID:5035-1705768200-1713637800@jmahdawah.org
SUMMARY:Three Questions of the Grave
DESCRIPTION:JMAH Halifax Presents; \nA 4 week course on The 3 Questions of the Grave With Ustaadh Abu Mohammed. \nOpen to Brothers and Sisters\, Starting Saturday 20th January and then every Saturday there after \nFree Event \n 
URL:https://jmahdawah.org/event/three-questions/
LOCATION:Main Hall – Building 1\, JMAH - 97 Hopwood Lane\, Halifax\, HX1 4ET\, United Kingdom
ATTACH;FMTTYPE=image/jpeg:https://jmahdawah.org/wp-content/uploads/2024/01/V1-scaled.jpg
ORGANIZER;CN="JMAH":MAILTO:jmahdawah@gmail.com
END:VEVENT
BEGIN:VEVENT
DTSTART;TZID=Europe/London:20240120T184500
DTEND;TZID=Europe/London:20240317T194500
DTSTAMP:20260423T152922
CREATED:20240110T213217Z
LAST-MODIFIED:20240214T122939Z
UID:5026-1705776300-1710704700@jmahdawah.org
SUMMARY:Learn Quranic Arabic
DESCRIPTION:JMAH Halifax Presents; \nLearn Quranic Arabic With Ustaadh Abu Mohammed. \nOpen to Brothers and Sisters\, Starting Saturday 20th January and then every Saturday there after \nEnrolment is required for this course with a £20 enrolment fee. Please use the following link to register \n        \n                                                \n                        \n                        \n                \n                \n                                    \n                        \n                Title\n            \n                    \n                \n                                                                                        \n                                                                    Mr\n                                                                    Mrs\n                                                                    Miss\n                                                                    Ms\n                                                                    Dr\n                                    \n            \n        \n                \n                        \n                First Name\n            \n                    \n                \n            \n        \n                \n                        \n                Last Name\n            \n                    \n                \n            \n        \n                \n                        \n                Email Address\n            \n                    \n                \n            \n        \n                \n                        \n                Mobile/Telephone Number\n            \n                    \n                \n            \n        \n                \n                        \n                If you're registering more than 1 person\, enter their names here\n            \n                    \n                \n            \n        \n                \n                    \n            \n                        \n                Number of Enrolments\n            \n                    \n                \n            \n        \n                        \n                \n                \n                \n                    \n                        Pay \n                        \n                            Please Wait…
URL:https://jmahdawah.org/event/learn-quranic-arabic/
LOCATION:Main Hall – Building 1\, JMAH - 97 Hopwood Lane\, Halifax\, HX1 4ET\, United Kingdom
ATTACH;FMTTYPE=image/jpeg:https://jmahdawah.org/wp-content/uploads/2024/01/V2-scaled.jpg
ORGANIZER;CN="JMAH":MAILTO:jmahdawah@gmail.com
END:VEVENT
BEGIN:VEVENT
DTSTART;TZID=Europe/London:20240217T103000
DTEND;TZID=Europe/London:20240217T153000
DTSTAMP:20260423T152922
CREATED:20240124T094658Z
LAST-MODIFIED:20240129T113806Z
UID:5059-1708165800-1708183800@jmahdawah.org
SUMMARY:The Principles of Fiqh
DESCRIPTION:The Poem of The Principles of Fiqh by As-Sa’di \nTaught by Ustaadh Mohammed Tim Humble \nSaturday 17th February 2024 – 10:30am till 3:30pm \nThis course is open to Brothers and Sisters  |  Free Course  |  Course Notes Provided \nThis course requires prior enrolment; please use the following form; \n\n        \n    \n        This form has now ended.
URL:https://jmahdawah.org/event/the-principles-of-fiqh/
LOCATION:Brothers – Building 1 Classroom / Sisters – Sisters Main Hall\, JMAH - 97 Hopwood Lane\, Halifax\, England\, HX1 4ET\, United Kingdom
ATTACH;FMTTYPE=image/jpeg:https://jmahdawah.org/wp-content/uploads/2024/01/The-Poem-scaled.jpg
ORGANIZER;CN="JMAH":MAILTO:jmahdawah@gmail.com
END:VEVENT
END:VCALENDAR